BEGIN:VCALENDAR
VERSION:2.0
PRODID:-//Arizona State Escrow Association - ECPv5.5.0.1//NONSGML v1.0//EN
CALSCALE:GREGORIAN
METHOD:PUBLISH
X-WR-CALNAME:Arizona State Escrow Association
X-ORIGINAL-URL:https://azsea.org
X-WR-CALDESC:Events for Arizona State Escrow Association
BEGIN:VTIMEZONE
TZID:UTC
BEGIN:STANDARD
TZOFFSETFROM:+0000
TZOFFSETTO:+0000
TZNAME:UTC
DTSTART:20190101T000000
END:STANDARD
END:VTIMEZONE
BEGIN:VEVENT
DTSTART;TZID=UTC:20190921T090000
DTEND;TZID=UTC:20190921T153000
DTSTAMP:20260421T124607
CREATED:20190827T033209Z
LAST-MODIFIED:20190910T173742Z
UID:1879-1569056400-1569079800@azsea.org
SUMMARY:Advanced Commercial Escrow Class
DESCRIPTION:Loading...\n						\n					\n					\n						\n							\n							Taking too long?\n						\n						\n							\n								 Reload document							\n							|\n							\n								 Open in new tab							\n					\n				\n			\n		Download [763.40 KB]
URL:https://azsea.org/event/advanced-commercial-escrow-class/
LOCATION:Meet 24\, 2398 E Camelback Rd First Floor\, Phoenix\, AZ\, 85016\, United States
END:VEVENT
END:VCALENDAR