BEGIN:VCALENDAR
VERSION:2.0
PRODID:-//Arizona State Escrow Association - ECPv5.5.0.1//NONSGML v1.0//EN
CALSCALE:GREGORIAN
METHOD:PUBLISH
X-WR-CALNAME:Arizona State Escrow Association
X-ORIGINAL-URL:https://azsea.org
X-WR-CALDESC:Events for Arizona State Escrow Association
BEGIN:VTIMEZONE
TZID:UTC
BEGIN:STANDARD
TZOFFSETFROM:+0000
TZOFFSETTO:+0000
TZNAME:UTC
DTSTART:20180101T000000
END:STANDARD
END:VTIMEZONE
BEGIN:VEVENT
DTSTART;TZID=UTC:20180505T090000
DTEND;TZID=UTC:20180505T120000
DTSTAMP:20260422T125558
CREATED:20180106T080539Z
LAST-MODIFIED:20180417T041514Z
UID:1283-1525510800-1525521600@azsea.org
SUMMARY:Advanced Commercial Class
DESCRIPTION:Loading...\n						\n					\n					\n						\n							\n							Taking too long?\n						\n						\n							\n								 Reload document							\n							|\n							\n								 Open in new tab							\n					\n				\n			\n		Download [685.27 KB]
URL:https://azsea.org/event/advanced-commercial/
LOCATION:Meet 24\, 2398 E Camelback Rd First Floor\, Phoenix\, AZ\, 85016\, United States
END:VEVENT
END:VCALENDAR