BEGIN:VCALENDAR
VERSION:2.0
PRODID:-//Arizona State Escrow Association - ECPv5.5.0.1//NONSGML v1.0//EN
CALSCALE:GREGORIAN
METHOD:PUBLISH
X-WR-CALNAME:Arizona State Escrow Association
X-ORIGINAL-URL:https://azsea.org
X-WR-CALDESC:Events for Arizona State Escrow Association
BEGIN:VTIMEZONE
TZID:UTC
BEGIN:STANDARD
TZOFFSETFROM:+0000
TZOFFSETTO:+0000
TZNAME:UTC
DTSTART:20160101T000000
END:STANDARD
END:VTIMEZONE
BEGIN:VEVENT
DTSTART;TZID=UTC:20160519T080000
DTEND;TZID=UTC:20160521T170000
DTSTAMP:20260424T023025
CREATED:20150810T005650Z
LAST-MODIFIED:20160328T095245Z
UID:648-1463644800-1463850000@azsea.org
SUMMARY:American Escrow Association 2016 Annual Conference
DESCRIPTION:Save the Date\n			\n				\n					\n						\n							\n							Loading...\n						\n					\n					\n						\n							\n							Taking too long?\n						\n						\n							\n								 Reload document							\n							|\n							\n								 Open in new tab							\n					\n				\n			\n		Download [51.28 KB]  \n 
URL:https://azsea.org/event/american-escrow-association-2016-annual-conference/
LOCATION:Tempe Mission Palms\, 60 E 5th St\, Tempe\, AZ\, 85281\, United States
CATEGORIES:Conference
ATTACH;FMTTYPE=image/jpeg:https://azsea.org/wp-content/uploads/2015/08/missionpalms.jpg
END:VEVENT
END:VCALENDAR