BEGIN:VCALENDAR
VERSION:2.0
PRODID:-//Arizona State Escrow Association - ECPv5.5.0.1//NONSGML v1.0//EN
CALSCALE:GREGORIAN
METHOD:PUBLISH
X-WR-CALNAME:Arizona State Escrow Association
X-ORIGINAL-URL:https://azsea.org
X-WR-CALDESC:Events for Arizona State Escrow Association
BEGIN:VTIMEZONE
TZID:UTC
BEGIN:STANDARD
TZOFFSETFROM:+0000
TZOFFSETTO:+0000
TZNAME:UTC
DTSTART:20160101T000000
END:STANDARD
END:VTIMEZONE
BEGIN:VEVENT
DTSTART;TZID=UTC:20161008T130000
DTEND;TZID=UTC:20161008T150000
DTSTAMP:20260423T175054
CREATED:20160915T084902Z
LAST-MODIFIED:20160928T084538Z
UID:1107-1475931600-1475938800@azsea.org
SUMMARY:October 2016 Board Meeting
DESCRIPTION:The ASEA Board Meeting is open to all Members \nAgenda: \nThe Leadership Team and Board Members meet from 1pm to 2pm. \nBoard Members voting from 2pm to 3 pm
URL:https://azsea.org/event/asea-board-meeting/
LOCATION:First American Title Ins. Co.\, 9000 E. Pima Center Parkway\, Scottsdale\, AZ\, 85258\, United States
END:VEVENT
END:VCALENDAR