BEGIN:VCALENDAR
VERSION:2.0
PRODID:-//Arizona State Escrow Association - ECPv5.5.0.1//NONSGML v1.0//EN
CALSCALE:GREGORIAN
METHOD:PUBLISH
X-WR-CALNAME:Arizona State Escrow Association
X-ORIGINAL-URL:https://azsea.org
X-WR-CALDESC:Events for Arizona State Escrow Association
BEGIN:VTIMEZONE
TZID:UTC
BEGIN:STANDARD
TZOFFSETFROM:+0000
TZOFFSETTO:+0000
TZNAME:UTC
DTSTART:20170101T000000
END:STANDARD
END:VTIMEZONE
BEGIN:VEVENT
DTSTART;TZID=UTC:20171014T130000
DTEND;TZID=UTC:20171014T150000
DTSTAMP:20260423T001436
CREATED:20170818T070211Z
LAST-MODIFIED:20171011T103128Z
UID:1225-1507986000-1507993200@azsea.org
SUMMARY:ASEA Board/Leadership Team Meeting
DESCRIPTION:ASEA Board Meetings  \nYou may also join from your computer\, tablet or smartphone.\nhttps://www.gotomeet.me/ASEABoardMtg  \nJoin the conference call:\n1-888-753-7187\nPIN 4802143598  \n 
URL:https://azsea.org/event/asea-boardleadership-team-meeting/
LOCATION:Westin La Paloma Hotel and Resort\, 3800 E Sunrise Dr\, Tucson\, AZ\, 85718\, United States
END:VEVENT
END:VCALENDAR