BEGIN:VCALENDAR
VERSION:2.0
PRODID:-//Arizona State Escrow Association - ECPv5.5.0.1//NONSGML v1.0//EN
CALSCALE:GREGORIAN
METHOD:PUBLISH
X-WR-CALNAME:Arizona State Escrow Association
X-ORIGINAL-URL:https://azsea.org
X-WR-CALDESC:Events for Arizona State Escrow Association
BEGIN:VTIMEZONE
TZID:UTC
BEGIN:STANDARD
TZOFFSETFROM:+0000
TZOFFSETTO:+0000
TZNAME:UTC
DTSTART:20180101T000000
END:STANDARD
END:VTIMEZONE
BEGIN:VEVENT
DTSTART;TZID=UTC:20181108T120000
DTEND;TZID=UTC:20181108T140000
DTSTAMP:20260422T033018
CREATED:20181030T022913Z
LAST-MODIFIED:20181030T022913Z
UID:1502-1541678400-1541685600@azsea.org
SUMMARY:ASEA Quarterly Escrow Administrator's Luncheon
DESCRIPTION:Good afternoon\, \nWe are excited to announce the quarterly Escrow Administrators Luncheon will be held Thursday November 8thfrom 12pm-2pm at The Phoenix City Grille. (5816 North 16th Street\nPhoenix\, Arizona 85016) \nOur guest speaker will be Sally Freudenberg Vice President\, Settlement Agent Strategy for Wells Fargo Home Mortgage. \nThe price of the luncheon will be $30. Payments will be accepted at the event. **Checks preferred please.**Please RSVP to tawni.moreno@stewart.com. Door registration will also be welcome. \nPlease share our event with any of your team that may benefit.
URL:https://azsea.org/event/asea-quarterly-escrow-administrators-luncheon/
LOCATION:Stewart Title\, 2930 E Camelback Rd Ste 210\, Phoenix\, AZ\, 85016
END:VEVENT
END:VCALENDAR