BEGIN:VCALENDAR
VERSION:2.0
PRODID:-//Arizona State Escrow Association - ECPv5.5.0.1//NONSGML v1.0//EN
CALSCALE:GREGORIAN
METHOD:PUBLISH
X-WR-CALNAME:Arizona State Escrow Association
X-ORIGINAL-URL:https://azsea.org
X-WR-CALDESC:Events for Arizona State Escrow Association
BEGIN:VTIMEZONE
TZID:UTC
BEGIN:STANDARD
TZOFFSETFROM:+0000
TZOFFSETTO:+0000
TZNAME:UTC
DTSTART:20160101T000000
END:STANDARD
END:VTIMEZONE
BEGIN:VEVENT
DTSTART;TZID=UTC:20161008T090000
DTEND;TZID=UTC:20161008T120000
DTSTAMP:20260423T175410
CREATED:20160517T095049Z
LAST-MODIFIED:20160920T055556Z
UID:1006-1475917200-1475928000@azsea.org
SUMMARY:Bankruptcies: The Art of Handling
DESCRIPTION:WEBINAR ALSO AVAILABLE for industry professionals outside of Maricopa County\n			\n				\n					\n						\n							\n							Loading...\n						\n					\n					\n						\n							\n							Taking too long?\n						\n						\n							\n								 Reload document							\n							|\n							\n								 Open in new tab
URL:https://azsea.org/event/bankruptciesprobatecourt-orderspersonal-rep/
LOCATION:First American Title – Desert Ridge\, 20860 N. Tatum Blvd #100\, Phoenix\, AZ\, 85050\, United States
END:VEVENT
END:VCALENDAR