BEGIN:VCALENDAR
VERSION:2.0
PRODID:-//Arizona State Escrow Association - ECPv5.5.0.1//NONSGML v1.0//EN
CALSCALE:GREGORIAN
METHOD:PUBLISH
X-WR-CALNAME:Arizona State Escrow Association
X-ORIGINAL-URL:https://azsea.org
X-WR-CALDESC:Events for Arizona State Escrow Association
BEGIN:VTIMEZONE
TZID:UTC
BEGIN:STANDARD
TZOFFSETFROM:+0000
TZOFFSETTO:+0000
TZNAME:UTC
DTSTART:20190101T000000
END:STANDARD
END:VTIMEZONE
BEGIN:VEVENT
DTSTART;TZID=UTC:20190413T090000
DTEND;TZID=UTC:20190413T120000
DTSTAMP:20260421T200412
CREATED:20180831T024227Z
LAST-MODIFIED:20190405T044222Z
UID:1451-1555146000-1555156800@azsea.org
SUMMARY:Board Meeting - LOCATION CHANGE
DESCRIPTION:
URL:https://azsea.org/event/board-meeting-3/
LOCATION:Fidelity National Title\, 60 E Rio Salado Pkwy\, 11th Floor\, Tempe\, 85281
END:VEVENT
END:VCALENDAR