BEGIN:VCALENDAR
VERSION:2.0
PRODID:-//Arizona State Escrow Association - ECPv5.5.0.1//NONSGML v1.0//EN
CALSCALE:GREGORIAN
METHOD:PUBLISH
X-WR-CALNAME:Arizona State Escrow Association
X-ORIGINAL-URL:https://azsea.org
X-WR-CALDESC:Events for Arizona State Escrow Association
BEGIN:VTIMEZONE
TZID:UTC
BEGIN:STANDARD
TZOFFSETFROM:+0000
TZOFFSETTO:+0000
TZNAME:UTC
DTSTART:20170101T000000
END:STANDARD
END:VTIMEZONE
BEGIN:VEVENT
DTSTART;TZID=UTC:20170909T090000
DTEND;TZID=UTC:20170909T120000
DTSTAMP:20260423T013300
CREATED:20170718T062830Z
LAST-MODIFIED:20170831T015013Z
UID:1204-1504947600-1504958400@azsea.org
SUMMARY:Escrow Math - ASEA Class
DESCRIPTION:Loading...\n						\n					\n					\n						\n							\n							Taking too long?\n						\n						\n							\n								 Reload document							\n							|\n							\n								 Open in new tab							\n					\n				\n			\n		Download [442.18 KB]
URL:https://azsea.org/event/escrow-math-asea-class/
LOCATION:First American Title Ins. Co.\, 9000 E. Pima Center Parkway\, Scottsdale\, AZ\, 85258\, United States
END:VEVENT
END:VCALENDAR