BEGIN:VCALENDAR
VERSION:2.0
PRODID:-//Arizona State Escrow Association - ECPv5.5.0.1//NONSGML v1.0//EN
CALSCALE:GREGORIAN
METHOD:PUBLISH
X-WR-CALNAME:Arizona State Escrow Association
X-ORIGINAL-URL:https://azsea.org
X-WR-CALDESC:Events for Arizona State Escrow Association
BEGIN:VTIMEZONE
TZID:UTC
BEGIN:STANDARD
TZOFFSETFROM:+0000
TZOFFSETTO:+0000
TZNAME:UTC
DTSTART:20190101T000000
END:STANDARD
END:VTIMEZONE
BEGIN:VEVENT
DTSTART;TZID=UTC:20190917T090000
DTEND;TZID=UTC:20190917T163000
DTSTAMP:20260421T140232
CREATED:20190802T062304Z
LAST-MODIFIED:20190802T062304Z
UID:1644-1568710800-1568737800@azsea.org
SUMMARY:Industry Partner's Conference
DESCRIPTION:Loading...\n						\n					\n					\n						\n							\n							Taking too long?\n						\n						\n							\n								 Reload document							\n							|\n							\n								 Open in new tab							\n					\n				\n			\n		Download [929.10 KB]
URL:https://azsea.org/event/industry-partners-conference-2/
LOCATION:Black Canyon Conference Center\, 9440 North 25th Avenue\, Phoenix\, AZ\, 85021
END:VEVENT
END:VCALENDAR