BEGIN:VCALENDAR
VERSION:2.0
PRODID:-//Arizona State Escrow Association - ECPv5.5.0.1//NONSGML v1.0//EN
CALSCALE:GREGORIAN
METHOD:PUBLISH
X-WR-CALNAME:Arizona State Escrow Association
X-ORIGINAL-URL:https://azsea.org
X-WR-CALDESC:Events for Arizona State Escrow Association
BEGIN:VTIMEZONE
TZID:UTC
BEGIN:STANDARD
TZOFFSETFROM:+0000
TZOFFSETTO:+0000
TZNAME:UTC
DTSTART:20170101T000000
END:STANDARD
END:VTIMEZONE
BEGIN:VEVENT
DTSTART;TZID=UTC:20170422T080000
DTEND;TZID=UTC:20170422T130000
DTSTAMP:20260423T100353
CREATED:20170103T072832Z
LAST-MODIFIED:20170103T072832Z
UID:1137-1492848000-1492866000@azsea.org
SUMMARY:PD Test
DESCRIPTION:
URL:https://azsea.org/event/pd-test/
END:VEVENT
END:VCALENDAR