BEGIN:VCALENDAR
VERSION:2.0
PRODID:-//Arizona State Escrow Association - ECPv5.5.0.1//NONSGML v1.0//EN
CALSCALE:GREGORIAN
METHOD:PUBLISH
X-WR-CALNAME:Arizona State Escrow Association
X-ORIGINAL-URL:https://azsea.org
X-WR-CALDESC:Events for Arizona State Escrow Association
BEGIN:VTIMEZONE
TZID:UTC
BEGIN:STANDARD
TZOFFSETFROM:+0000
TZOFFSETTO:+0000
TZNAME:UTC
DTSTART:20180101T000000
END:STANDARD
END:VTIMEZONE
BEGIN:VEVENT
DTSTART;TZID=UTC:20180406T080000
DTEND;TZID=UTC:20180406T170000
DTSTAMP:20260422T142051
CREATED:20180118T012937Z
LAST-MODIFIED:20180118T013257Z
UID:1291-1523001600-1523034000@azsea.org
SUMMARY:PD Testing Deadline to Complete Online Portion
DESCRIPTION:
URL:https://azsea.org/event/pd-testing-deadline-complete-online-portion/
END:VEVENT
END:VCALENDAR