BEGIN:VCALENDAR
VERSION:2.0
PRODID:-//Arizona State Escrow Association - ECPv5.5.0.1//NONSGML v1.0//EN
CALSCALE:GREGORIAN
METHOD:PUBLISH
X-WR-CALNAME:Arizona State Escrow Association
X-ORIGINAL-URL:https://azsea.org
X-WR-CALDESC:Events for Arizona State Escrow Association
BEGIN:VTIMEZONE
TZID:UTC
BEGIN:STANDARD
TZOFFSETFROM:+0000
TZOFFSETTO:+0000
TZNAME:UTC
DTSTART:20160101T000000
END:STANDARD
END:VTIMEZONE
BEGIN:VEVENT
DTSTART;TZID=UTC:20161022T080000
DTEND;TZID=UTC:20161022T130000
DTSTAMP:20260423T164342
CREATED:20160517T095206Z
LAST-MODIFIED:20160928T084515Z
UID:1007-1477123200-1477141200@azsea.org
SUMMARY:Professional Designation Test
DESCRIPTION:
URL:https://azsea.org/event/professional-designation-test/
LOCATION:Fidelity National Title\, 60 E Rio Salado Pkwy\, 11th Floor\, Tempe\, 85281
END:VEVENT
END:VCALENDAR