BEGIN:VCALENDAR
VERSION:2.0
PRODID:-//Arizona State Escrow Association - ECPv5.5.0.1//NONSGML v1.0//EN
CALSCALE:GREGORIAN
METHOD:PUBLISH
X-WR-CALNAME:Arizona State Escrow Association
X-ORIGINAL-URL:https://azsea.org
X-WR-CALDESC:Events for Arizona State Escrow Association
BEGIN:VTIMEZONE
TZID:UTC
BEGIN:STANDARD
TZOFFSETFROM:+0000
TZOFFSETTO:+0000
TZNAME:UTC
DTSTART:20180101T000000
END:STANDARD
END:VTIMEZONE
BEGIN:VEVENT
DTSTART;TZID=UTC:20180421T080000
DTEND;TZID=UTC:20180421T140000
DTSTAMP:20260422T142709
CREATED:20170818T070747Z
LAST-MODIFIED:20170818T070747Z
UID:1233-1524297600-1524319200@azsea.org
SUMMARY:Professional Designation Testing
DESCRIPTION:
URL:https://azsea.org/event/professional-designation-testing-3/
LOCATION:TBD
END:VEVENT
END:VCALENDAR