BEGIN:VCALENDAR
VERSION:2.0
PRODID:-//Arizona State Escrow Association - ECPv5.5.0.1//NONSGML v1.0//EN
CALSCALE:GREGORIAN
METHOD:PUBLISH
X-WR-CALNAME:Arizona State Escrow Association
X-ORIGINAL-URL:https://azsea.org
X-WR-CALDESC:Events for Arizona State Escrow Association
BEGIN:VTIMEZONE
TZID:UTC
BEGIN:STANDARD
TZOFFSETFROM:+0000
TZOFFSETTO:+0000
TZNAME:UTC
DTSTART:20190101T000000
END:STANDARD
END:VTIMEZONE
BEGIN:VEVENT
DTSTART;TZID=UTC:20191109T080000
DTEND;TZID=UTC:20191109T140000
DTSTAMP:20260421T095742
CREATED:20190611T030853Z
LAST-MODIFIED:20190815T031758Z
UID:1623-1573286400-1573308000@azsea.org
SUMMARY:Professional Designation Testing
DESCRIPTION:
URL:https://azsea.org/event/professional-designation-testing-6/
LOCATION:Pioneer Title Agency\, 7310 N. 16th Street Ste 250\, Phoenix\, AZ\, 85020\, United States
END:VEVENT
END:VCALENDAR