BEGIN:VCALENDAR
VERSION:2.0
PRODID:-//Arizona State Escrow Association - ECPv5.5.0.1//NONSGML v1.0//EN
CALSCALE:GREGORIAN
METHOD:PUBLISH
X-WR-CALNAME:Arizona State Escrow Association
X-ORIGINAL-URL:https://azsea.org
X-WR-CALDESC:Events for Arizona State Escrow Association
BEGIN:VTIMEZONE
TZID:UTC
BEGIN:STANDARD
TZOFFSETFROM:+0000
TZOFFSETTO:+0000
TZNAME:UTC
DTSTART:20160101T000000
END:STANDARD
END:VTIMEZONE
BEGIN:VEVENT
DTSTART;TZID=UTC:20160416T090000
DTEND;TZID=UTC:20160416T160000
DTSTAMP:20260424T041449
CREATED:20160102T043101Z
LAST-MODIFIED:20160210T094502Z
UID:846-1460797200-1460822400@azsea.org
SUMMARY:Professional Designation Testing - SAVE THE DATE
DESCRIPTION:
URL:https://azsea.org/event/professional-designation-testing-save-the-date/
LOCATION:First American Title Ins. Co.\, 9000 E. Pima Center Parkway\, Scottsdale\, AZ\, 85258\, United States
END:VEVENT
END:VCALENDAR