BEGIN:VCALENDAR
VERSION:2.0
PRODID:-//Arizona State Escrow Association - ECPv5.5.0.1//NONSGML v1.0//EN
CALSCALE:GREGORIAN
METHOD:PUBLISH
X-WR-CALNAME:Arizona State Escrow Association
X-ORIGINAL-URL:https://azsea.org
X-WR-CALDESC:Events for Arizona State Escrow Association
BEGIN:VTIMEZONE
TZID:UTC
BEGIN:STANDARD
TZOFFSETFROM:+0000
TZOFFSETTO:+0000
TZNAME:UTC
DTSTART:20160101T000000
END:STANDARD
END:VTIMEZONE
BEGIN:VEVENT
DTSTART;TZID=UTC:20160611T090000
DTEND;TZID=UTC:20160611T120000
DTSTAMP:20260424T010755
CREATED:20160218T113508Z
LAST-MODIFIED:20160523T081630Z
UID:971-1465635600-1465646400@azsea.org
SUMMARY:FIRPTA - Knowing the Changes (Prescott) - WEBINAR also available
DESCRIPTION:ALSO AVAILABLE VIA WEBINAR \nJoin us for invaluable FIRPTA information: \n– When FIRPTA is needed\n– Understand required FIRPTA documents\n– Areas of documents you can/cannot complete \n– Where to send FIRPTA documents and forms\n– Known issues revolving around FIRPTA & IRS\n– FIRPTA time frames and penalties \nBe up to date with all the changes \n\n			\n				\n					\n						\n							\n							Loading...\n						\n					\n					\n						\n							\n							Taking too long?\n						\n						\n							\n								 Reload document							\n							|\n							\n								 Open in new tab
URL:https://azsea.org/event/save-the-date-firpta-prescott/
LOCATION:Yavapai Title Agency\, 1235 E. Gurley St #100\, Prescott\, 86301
CATEGORIES:Education
END:VEVENT
END:VCALENDAR