BEGIN:VCALENDAR
VERSION:2.0
PRODID:-//Arizona State Escrow Association - ECPv5.5.0.1//NONSGML v1.0//EN
CALSCALE:GREGORIAN
METHOD:PUBLISH
X-WR-CALNAME:Arizona State Escrow Association
X-ORIGINAL-URL:https://azsea.org
X-WR-CALDESC:Events for Arizona State Escrow Association
BEGIN:VTIMEZONE
TZID:America/Denver
BEGIN:DAYLIGHT
TZOFFSETFROM:-0700
TZOFFSETTO:-0600
TZNAME:MDT
DTSTART:20200308T090000
END:DAYLIGHT
BEGIN:STANDARD
TZOFFSETFROM:-0600
TZOFFSETTO:-0700
TZNAME:MST
DTSTART:20201101T080000
END:STANDARD
END:VTIMEZONE
BEGIN:VEVENT
DTSTART;TZID=America/Denver:20200222T090000
DTEND;TZID=America/Denver:20200222T120000
DTSTAMP:20260421T053141
CREATED:20200203T212532Z
LAST-MODIFIED:20200205T202216Z
UID:1948-1582362000-1582372800@azsea.org
SUMMARY:That's a Wrap - Wraps class
DESCRIPTION:Loading...\n						\n					\n					\n						\n							\n							Taking too long?\n						\n						\n							\n								 Reload document							\n							|\n							\n								 Open in new tab							\n					\n				\n			\n		Download [672.00 KB]
URL:https://azsea.org/event/thats-a-wrap-wraps-class/
LOCATION:First American Title Ins. Co.\, 9000 E. Pima Center Parkway\, Scottsdale\, AZ\, 85258\, United States
END:VEVENT
END:VCALENDAR